BEGIN:VCALENDAR
VERSION:2.0
PRODID:icalendar-ruby
CALSCALE:GREGORIAN
METHOD:PUBLISH
BEGIN:VEVENT
DTSTAMP:20260421T213425Z
UID:63-2336676@livinglord.org
DTSTART:20260924T000000Z
DTEND:20260924T013000Z
CLASS:PUBLIC
CREATED:20260421T144716
DESCRIPTION:God Squad Youth Group is open to all high school youth.\nWe mee
 t Wednesday nights following Confirmation.  From 7:00pm to 7:30pm we will
  have games with the middle school youth and then do our own thing from 7:
 30-8:30pm.  This year our focus is on Romans 12.\n\nTherefore\, I urge yo
 u\, brothers and sisters\, in view of God's mercy\, to offer your bodies a
 s a living sacrifice\, holy and pleasing to God... - Romans 12:1\n\nContac
 t Chad Ryberg if you have any questions at cryberg@livinglord.org
LAST-MODIFIED:20260421T144716
LOCATION:Youth Room
SUMMARY:God Squad Youth Group
URL;VALUE=URI:https://livinglord.org/events/god-squad-youth-group/2026-09-2
 3
ATTACH;FILENAME=Godsquadtest.png;FMTTYPE=image/png:https://dq5pwpg1q8ru0.cl
 oudfront.net/2024/08/26/17/46/43/5df15e95-3e32-454a-80dd-1bd509aa3ba6/Gods
 quadtest.png
END:VEVENT
END:VCALENDAR
